Package: ExperimentHub Version: 2.16.1 Command: rm -rf ExperimentHub.buildbin-libdir && mkdir ExperimentHub.buildbin-libdir && E:\biocbuild\bbs-3.21-bioc\R\bin\R.exe CMD INSTALL --build --library=ExperimentHub.buildbin-libdir ExperimentHub_2.16.1.tar.gz StartedAt: 2025-08-15 09:16:28 -0400 (Fri, 15 Aug 2025) EndedAt: 2025-08-15 09:16:56 -0400 (Fri, 15 Aug 2025) EllapsedTime: 28.7 seconds RetCode: 0 Status: OK PackageFile: ExperimentHub_2.16.1.zip PackageFileSize: 544.7 KiB