Package: ExperimentHub Version: 2.16.1 Command: /home/biocbuild/bbs-3.21-bioc/R/bin/R CMD INSTALL ExperimentHub StartedAt: 2025-10-15 15:25:43 -0400 (Wed, 15 Oct 2025) EndedAt: 2025-10-15 15:25:57 -0400 (Wed, 15 Oct 2025) EllapsedTime: 14.0 seconds RetCode: 0 Status: OK