Package: ExperimentHub Version: 2.16.1 Command: /home/biocbuild/R/R/bin/R CMD INSTALL ExperimentHub StartedAt: 2025-10-13 20:39:59 -0000 (Mon, 13 Oct 2025) EndedAt: 2025-10-13 20:40:19 -0000 (Mon, 13 Oct 2025) EllapsedTime: 19.6 seconds RetCode: 0 Status: OK