Package: ExperimentHub Version: 2.16.1 Command: /home/biocbuild/R/R/bin/R CMD check --install=check:ExperimentHub.install-out.txt --library=/home/biocbuild/R/R/site-library --no-vignettes --timings ExperimentHub_2.16.1.tar.gz StartedAt: 2025-10-14 09:04:58 -0000 (Tue, 14 Oct 2025) EndedAt: 2025-10-14 09:07:31 -0000 (Tue, 14 Oct 2025) EllapsedTime: 152.1 seconds RetCode: 0 Status: WARNINGS CheckDir: ExperimentHub.Rcheck Warnings: 1