Package: ExperimentHub Version: 2.16.1 Command: /Library/Frameworks/R.framework/Resources/bin/R CMD INSTALL ExperimentHub StartedAt: 2025-10-13 15:47:50 -0400 (Mon, 13 Oct 2025) EndedAt: 2025-10-13 15:48:06 -0400 (Mon, 13 Oct 2025) EllapsedTime: 16.6 seconds RetCode: 0 Status: OK