Package: ExperimentHub Version: 2.16.1 Command: /Library/Frameworks/R.framework/Resources/bin/R CMD check --install=check:ExperimentHub.install-out.txt --library=/Library/Frameworks/R.framework/Resources/library --no-vignettes --timings ExperimentHub_2.16.1.tar.gz StartedAt: 2025-10-14 21:21:42 -0400 (Tue, 14 Oct 2025) EndedAt: 2025-10-14 21:23:47 -0400 (Tue, 14 Oct 2025) EllapsedTime: 125.2 seconds RetCode: 0 Status: WARNINGS CheckDir: ExperimentHub.Rcheck Warnings: 1