Package: ExperimentHub Version: 2.16.1 Command: rm -rf ExperimentHub.buildbin-libdir && mkdir ExperimentHub.buildbin-libdir && /Users/biocbuild/BBS/utils/build-universal.sh ExperimentHub_2.16.1.tar.gz /Library/Frameworks/R.framework/Resources/bin/R ExperimentHub.buildbin-libdir StartedAt: 2025-10-15 18:28:02 -0400 (Wed, 15 Oct 2025) EndedAt: 2025-10-15 18:28:22 -0400 (Wed, 15 Oct 2025) EllapsedTime: 19.3 seconds RetCode: 0 Status: OK PackageFile: ExperimentHub_2.16.1.tgz PackageFileSize: 542.2 KiB