Package: ExiMiR Version: 2.50.0 Command: /home/biocbuild/bbs-3.21-bioc/R/bin/R CMD INSTALL ExiMiR StartedAt: 2025-10-15 15:12:06 -0400 (Wed, 15 Oct 2025) EndedAt: 2025-10-15 15:12:12 -0400 (Wed, 15 Oct 2025) EllapsedTime: 6.1 seconds RetCode: 0 Status: OK