Package: ExiMiR Version: 2.50.0 Command: /home/biocbuild/bbs-3.21-bioc/R/bin/R CMD check --install=check:ExiMiR.install-out.txt --library=/home/biocbuild/bbs-3.21-bioc/R/site-library --timings ExiMiR_2.50.0.tar.gz StartedAt: 2025-10-15 23:09:49 -0400 (Wed, 15 Oct 2025) EndedAt: 2025-10-15 23:11:36 -0400 (Wed, 15 Oct 2025) EllapsedTime: 107.2 seconds RetCode: 0 Status: OK CheckDir: ExiMiR.Rcheck Warnings: 0