Package: ExiMiR Version: 2.50.0 Command: /Library/Frameworks/R.framework/Resources/bin/R CMD build --keep-empty-dirs --no-resave-data ExiMiR StartedAt: 2025-10-14 00:12:40 -0400 (Tue, 14 Oct 2025) EndedAt: 2025-10-14 00:13:55 -0400 (Tue, 14 Oct 2025) EllapsedTime: 75.4 seconds RetCode: 0 Status: OK PackageFile: ExiMiR_2.50.0.tar.gz PackageFileSize: 1.507 MiB