Package: ExCluster Version: 1.26.0 Command: /Library/Frameworks/R.framework/Resources/bin/R CMD INSTALL ExCluster StartedAt: 2025-09-29 15:46:23 -0400 (Mon, 29 Sep 2025) EndedAt: 2025-09-29 15:47:26 -0400 (Mon, 29 Sep 2025) EllapsedTime: 62.8 seconds RetCode: 0 Status: OK