Package: EpipwR Version: 1.2.0 Command: chmod a+r EpipwR -R && E:\biocbuild\bbs-3.21-bioc\R\bin\R.exe CMD build --keep-empty-dirs --no-resave-data EpipwR StartedAt: 2025-08-14 18:51:50 -0400 (Thu, 14 Aug 2025) EndedAt: 2025-08-14 18:52:20 -0400 (Thu, 14 Aug 2025) EllapsedTime: 30.0 seconds RetCode: 0 Status: OK PackageFile: EpipwR_1.2.0.tar.gz PackageFileSize: 122.5 KiB