Package: EpipwR Version: 1.2.0 Command: rm -rf EpipwR.buildbin-libdir && mkdir EpipwR.buildbin-libdir && E:\biocbuild\bbs-3.21-bioc\R\bin\R.exe CMD INSTALL --build --library=EpipwR.buildbin-libdir EpipwR_1.2.0.tar.gz StartedAt: 2025-08-15 09:15:04 -0400 (Fri, 15 Aug 2025) EndedAt: 2025-08-15 09:15:24 -0400 (Fri, 15 Aug 2025) EllapsedTime: 19.4 seconds RetCode: 0 Status: OK PackageFile: EpipwR_1.2.0.zip PackageFileSize: 119.3 KiB