Package: EpipwR Version: 1.2.0 Command: /home/biocbuild/bbs-3.21-bioc/R/bin/R CMD check --install=check:EpipwR.install-out.txt --library=/home/biocbuild/bbs-3.21-bioc/R/site-library --timings EpipwR_1.2.0.tar.gz StartedAt: 2025-10-15 22:59:51 -0400 (Wed, 15 Oct 2025) EndedAt: 2025-10-15 23:02:22 -0400 (Wed, 15 Oct 2025) EllapsedTime: 151.1 seconds RetCode: 0 Status: OK CheckDir: EpipwR.Rcheck Warnings: 0