Package: EpipwR Version: 1.2.0 Command: /Library/Frameworks/R.framework/Resources/bin/R CMD check --install=check:EpipwR.install-out.txt --library=/Library/Frameworks/R.framework/Resources/library --no-vignettes --timings EpipwR_1.2.0.tar.gz StartedAt: 2025-10-14 03:26:16 -0400 (Tue, 14 Oct 2025) EndedAt: 2025-10-14 03:31:56 -0400 (Tue, 14 Oct 2025) EllapsedTime: 339.9 seconds RetCode: 0 Status: OK CheckDir: EpipwR.Rcheck Warnings: 0