Package: EpipwR Version: 1.2.0 Command: /Library/Frameworks/R.framework/Resources/bin/R CMD build --keep-empty-dirs --no-resave-data EpipwR StartedAt: 2025-10-13 18:53:57 -0400 (Mon, 13 Oct 2025) EndedAt: 2025-10-13 18:54:47 -0400 (Mon, 13 Oct 2025) EllapsedTime: 49.7 seconds RetCode: 0 Status: OK PackageFile: EpipwR_1.2.0.tar.gz PackageFileSize: 122.4 KiB