Package: EpipwR Version: 1.2.0 Command: /home/biocbuild/R/R/bin/R CMD INSTALL EpipwR StartedAt: 2025-10-13 20:40:45 -0000 (Mon, 13 Oct 2025) EndedAt: 2025-10-13 20:41:05 -0000 (Mon, 13 Oct 2025) EllapsedTime: 19.9 seconds RetCode: 0 Status: OK