Package: EpipwR Version: 1.2.0 Command: /home/biocbuild/R/R/bin/R CMD check --install=check:EpipwR.install-out.txt --library=/home/biocbuild/R/R/site-library --no-vignettes --timings EpipwR_1.2.0.tar.gz StartedAt: 2025-10-14 08:54:57 -0000 (Tue, 14 Oct 2025) EndedAt: 2025-10-14 08:59:03 -0000 (Tue, 14 Oct 2025) EllapsedTime: 245.2 seconds RetCode: 0 Status: OK CheckDir: EpipwR.Rcheck Warnings: 0