Package: EpipwR Version: 1.2.0 Command: rm -rf EpipwR.buildbin-libdir && mkdir EpipwR.buildbin-libdir && /Users/biocbuild/BBS/utils/build-universal.sh EpipwR_1.2.0.tar.gz /Library/Frameworks/R.framework/Resources/bin/R EpipwR.buildbin-libdir StartedAt: 2025-10-15 18:24:22 -0400 (Wed, 15 Oct 2025) EndedAt: 2025-10-15 18:24:41 -0400 (Wed, 15 Oct 2025) EllapsedTime: 19.3 seconds RetCode: 0 Status: OK PackageFile: EpipwR_1.2.0.tgz PackageFileSize: 114.9 KiB