Package: EpiTxDb Version: 1.20.0 Command: /Library/Frameworks/R.framework/Resources/bin/R CMD INSTALL EpiTxDb StartedAt: 2025-09-29 17:28:17 -0400 (Mon, 29 Sep 2025) EndedAt: 2025-09-29 17:29:10 -0400 (Mon, 29 Sep 2025) EllapsedTime: 53.0 seconds RetCode: 0 Status: OK