Package: EpiTxDb Version: 1.20.0 Command: /Library/Frameworks/R.framework/Resources/bin/R CMD build --keep-empty-dirs --no-resave-data EpiTxDb StartedAt: 2025-09-30 00:11:43 -0400 (Tue, 30 Sep 2025) EndedAt: 2025-09-30 00:15:28 -0400 (Tue, 30 Sep 2025) EllapsedTime: 225.2 seconds RetCode: 0 Status: OK PackageFile: EpiTxDb_1.20.0.tar.gz PackageFileSize: 779.4 KiB