Package: EpiTxDb Version: 1.20.0 Command: rm -rf EpiTxDb.buildbin-libdir && mkdir EpiTxDb.buildbin-libdir && /Users/biocbuild/BBS/utils/build-universal.sh EpiTxDb_1.20.0.tar.gz /Library/Frameworks/R.framework/Resources/bin/R EpiTxDb.buildbin-libdir StartedAt: 2025-10-01 18:23:58 -0400 (Wed, 01 Oct 2025) EndedAt: 2025-10-01 18:24:57 -0400 (Wed, 01 Oct 2025) EllapsedTime: 59.0 seconds RetCode: 0 Status: OK PackageFile: EpiTxDb_1.20.0.tgz PackageFileSize: 1.688 MiB