Package: EpiMix Version: 1.10.0 Command: /home/biocbuild/bbs-3.21-bioc/R/bin/R CMD check --install=check:EpiMix.install-out.txt --library=/home/biocbuild/bbs-3.21-bioc/R/site-library --timings EpiMix_1.10.0.tar.gz StartedAt: 2025-10-01 23:00:37 -0400 (Wed, 01 Oct 2025) EndedAt: 2025-10-01 23:13:56 -0400 (Wed, 01 Oct 2025) EllapsedTime: 799.0 seconds RetCode: 0 Status: OK CheckDir: EpiMix.Rcheck Warnings: 0