Package: EpiMix Version: 1.10.0 Command: /Library/Frameworks/R.framework/Resources/bin/R CMD build --keep-empty-dirs --no-resave-data EpiMix StartedAt: 2025-09-25 18:51:57 -0400 (Thu, 25 Sep 2025) EndedAt: 2025-09-25 19:03:19 -0400 (Thu, 25 Sep 2025) EllapsedTime: 681.6 seconds RetCode: 0 Status: OK PackageFile: EpiMix_1.10.0.tar.gz PackageFileSize: 2.893 MiB