Package: EpiMix Version: 1.10.0 Command: /home/biocbuild/R/R/bin/R CMD build --keep-empty-dirs --no-resave-data EpiMix StartedAt: 2025-09-26 01:06:36 -0000 (Fri, 26 Sep 2025) EndedAt: 2025-09-26 01:46:37 -0000 (Fri, 26 Sep 2025) EllapsedTime: 2400.6 seconds RetCode: None Status: TIMEOUT PackageFile: None PackageFileSize: NA