Package: EpiMix Version: 1.10.0 Command: /Library/Frameworks/R.framework/Resources/bin/R CMD check --install=check:EpiMix.install-out.txt --library=/Library/Frameworks/R.framework/Resources/library --no-vignettes --timings EpiMix_1.10.0.tar.gz StartedAt: 2025-09-30 20:43:55 -0400 (Tue, 30 Sep 2025) EndedAt: 2025-09-30 20:53:30 -0400 (Tue, 30 Sep 2025) EllapsedTime: 574.7 seconds RetCode: 0 Status: OK CheckDir: EpiMix.Rcheck Warnings: 0