Package: EpiMix Version: 1.10.0 Maintainer: Yuanning Zheng MaintainerEmail: eric2021 at stanford.edu git_url: https://git.bioconductor.org/packages/EpiMix git_branch: RELEASE_3_21 git_last_commit: d6d994d git_last_commit_date: 2025-04-15 12:53:32 -0400 (Tue, 15 Apr 2025)