Package: EpiDISH Version: 2.24.0 Command: /Library/Frameworks/R.framework/Resources/bin/R CMD INSTALL EpiDISH StartedAt: 2025-10-13 15:16:38 -0400 (Mon, 13 Oct 2025) EndedAt: 2025-10-13 15:16:43 -0400 (Mon, 13 Oct 2025) EllapsedTime: 5.1 seconds RetCode: 0 Status: OK