Package: EnrichmentBrowser Version: 2.38.0 Command: chmod a+r EnrichmentBrowser -R && E:\biocbuild\bbs-3.21-bioc\R\bin\R.exe CMD build --keep-empty-dirs --no-resave-data EnrichmentBrowser StartedAt: 2025-08-14 18:48:14 -0400 (Thu, 14 Aug 2025) EndedAt: 2025-08-14 18:50:57 -0400 (Thu, 14 Aug 2025) EllapsedTime: 163.3 seconds RetCode: 0 Status: OK PackageFile: EnrichmentBrowser_2.38.0.tar.gz PackageFileSize: 1.264 MiB