Package: EnrichmentBrowser Version: 2.38.1 Command: /Library/Frameworks/R.framework/Resources/bin/R CMD INSTALL EnrichmentBrowser StartedAt: 2025-10-13 16:47:02 -0400 (Mon, 13 Oct 2025) EndedAt: 2025-10-13 16:48:12 -0400 (Mon, 13 Oct 2025) EllapsedTime: 69.7 seconds RetCode: 0 Status: OK