Package: EnrichmentBrowser Version: 2.38.1 Command: /Library/Frameworks/R.framework/Resources/bin/R CMD check --install=check:EnrichmentBrowser.install-out.txt --library=/Library/Frameworks/R.framework/Resources/library --no-vignettes --timings EnrichmentBrowser_2.38.1.tar.gz StartedAt: 2025-10-14 03:22:06 -0400 (Tue, 14 Oct 2025) EndedAt: 2025-10-14 03:34:20 -0400 (Tue, 14 Oct 2025) EllapsedTime: 734.4 seconds RetCode: 0 Status: OK CheckDir: EnrichmentBrowser.Rcheck Warnings: 0