Package: EnrichmentBrowser Version: 2.38.1 Command: /home/biocbuild/R/R/bin/R CMD INSTALL EnrichmentBrowser StartedAt: 2025-10-13 21:17:06 -0000 (Mon, 13 Oct 2025) EndedAt: 2025-10-13 21:17:52 -0000 (Mon, 13 Oct 2025) EllapsedTime: 45.9 seconds RetCode: 0 Status: OK