Package: EnrichmentBrowser Version: 2.38.1 Command: /home/biocbuild/R/R/bin/R CMD check --install=check:EnrichmentBrowser.install-out.txt --library=/home/biocbuild/R/R/site-library --no-vignettes --timings EnrichmentBrowser_2.38.1.tar.gz StartedAt: 2025-10-14 08:51:10 -0000 (Tue, 14 Oct 2025) EndedAt: 2025-10-14 09:11:02 -0000 (Tue, 14 Oct 2025) EllapsedTime: 1191.4 seconds RetCode: 0 Status: OK CheckDir: EnrichmentBrowser.Rcheck Warnings: 0