Package: EnrichmentBrowser Version: 2.38.1 Command: /home/biocbuild/R/R/bin/R CMD build --keep-empty-dirs --no-resave-data EnrichmentBrowser StartedAt: 2025-10-14 00:36:20 -0000 (Tue, 14 Oct 2025) EndedAt: 2025-10-14 00:39:06 -0000 (Tue, 14 Oct 2025) EllapsedTime: 166.0 seconds RetCode: 0 Status: OK PackageFile: EnrichmentBrowser_2.38.1.tar.gz PackageFileSize: 1.358 MiB