Package: EnrichedHeatmap Version: 1.38.0 Command: /Library/Frameworks/R.framework/Resources/bin/R CMD check --install=check:EnrichedHeatmap.install-out.txt --library=/Library/Frameworks/R.framework/Resources/library --no-vignettes --timings EnrichedHeatmap_1.38.0.tar.gz StartedAt: 2025-09-26 03:18:38 -0400 (Fri, 26 Sep 2025) EndedAt: 2025-09-26 03:22:45 -0400 (Fri, 26 Sep 2025) EllapsedTime: 246.7 seconds RetCode: 0 Status: OK CheckDir: EnrichedHeatmap.Rcheck Warnings: 0