Package: EmpiricalBrownsMethod Version: 1.36.0 Command: /Library/Frameworks/R.framework/Resources/bin/R CMD INSTALL EmpiricalBrownsMethod StartedAt: 2025-10-13 15:05:49 -0400 (Mon, 13 Oct 2025) EndedAt: 2025-10-13 15:06:05 -0400 (Mon, 13 Oct 2025) EllapsedTime: 15.7 seconds RetCode: 0 Status: OK