Package: EWCE Version: 1.16.0 Command: E:\biocbuild\bbs-3.21-bioc\R\bin\R.exe CMD check --no-multiarch --install=check:EWCE.install-out.txt --library=E:\biocbuild\bbs-3.21-bioc\R\library --no-vignettes --timings EWCE_1.16.0.tar.gz StartedAt: 2025-08-15 02:05:40 -0400 (Fri, 15 Aug 2025) EndedAt: 2025-08-15 02:28:01 -0400 (Fri, 15 Aug 2025) EllapsedTime: 1341.4 seconds RetCode: 0 Status: OK CheckDir: EWCE.Rcheck Warnings: 0