Package: EWCE Version: 1.16.0 Command: rm -rf EWCE.buildbin-libdir && mkdir EWCE.buildbin-libdir && E:\biocbuild\bbs-3.21-bioc\R\bin\R.exe CMD INSTALL --build --library=EWCE.buildbin-libdir EWCE_1.16.0.tar.gz StartedAt: 2025-08-15 09:16:21 -0400 (Fri, 15 Aug 2025) EndedAt: 2025-08-15 09:17:30 -0400 (Fri, 15 Aug 2025) EllapsedTime: 69.6 seconds RetCode: 0 Status: OK PackageFile: EWCE_1.16.0.zip PackageFileSize: 2.135 MiB