Package: EWCE Version: 1.16.0 Command: /home/biocbuild/bbs-3.21-bioc/R/bin/R CMD check --install=check:EWCE.install-out.txt --library=/home/biocbuild/bbs-3.21-bioc/R/site-library --timings EWCE_1.16.0.tar.gz StartedAt: 2025-10-15 23:09:18 -0400 (Wed, 15 Oct 2025) EndedAt: 2025-10-15 23:27:37 -0400 (Wed, 15 Oct 2025) EllapsedTime: 1098.9 seconds RetCode: 1 Status: ERROR CheckDir: EWCE.Rcheck Warnings: NA