Package: EWCE Version: 1.16.0 Command: /home/biocbuild/R/R/bin/R CMD check --install=check:EWCE.install-out.txt --library=/home/biocbuild/R/R/site-library --no-vignettes --timings EWCE_1.16.0.tar.gz StartedAt: 2025-10-14 09:03:47 -0000 (Tue, 14 Oct 2025) EndedAt: 2025-10-14 09:27:17 -0000 (Tue, 14 Oct 2025) EllapsedTime: 1409.2 seconds RetCode: 1 Status: ERROR CheckDir: EWCE.Rcheck Warnings: NA