Package: ERSSA Version: 1.26.0 Command: E:\biocbuild\bbs-3.21-bioc\R\bin\R.exe CMD check --no-multiarch --install=check:ERSSA.install-out.txt --library=E:\biocbuild\bbs-3.21-bioc\R\library --no-vignettes --timings ERSSA_1.26.0.tar.gz StartedAt: 2025-08-15 02:00:29 -0400 (Fri, 15 Aug 2025) EndedAt: 2025-08-15 02:06:16 -0400 (Fri, 15 Aug 2025) EllapsedTime: 347.5 seconds RetCode: 0 Status: OK CheckDir: ERSSA.Rcheck Warnings: 0