Package: ERSSA Version: 1.26.0 Command: chmod a+r ERSSA -R && E:\biocbuild\bbs-3.21-bioc\R\bin\R.exe CMD build --keep-empty-dirs --no-resave-data ERSSA StartedAt: 2025-08-14 18:57:13 -0400 (Thu, 14 Aug 2025) EndedAt: 2025-08-14 18:58:26 -0400 (Thu, 14 Aug 2025) EllapsedTime: 72.5 seconds RetCode: 0 Status: OK PackageFile: ERSSA_1.26.0.tar.gz PackageFileSize: 2.679 MiB