Package: ERSSA Version: 1.26.0 Command: rm -rf ERSSA.buildbin-libdir && mkdir ERSSA.buildbin-libdir && E:\biocbuild\bbs-3.21-bioc\R\bin\R.exe CMD INSTALL --build --library=ERSSA.buildbin-libdir ERSSA_1.26.0.tar.gz StartedAt: 2025-08-15 09:15:52 -0400 (Fri, 15 Aug 2025) EndedAt: 2025-08-15 09:16:33 -0400 (Fri, 15 Aug 2025) EllapsedTime: 41.4 seconds RetCode: 0 Status: OK PackageFile: ERSSA_1.26.0.zip PackageFileSize: 2.428 MiB