Package: ENmix Version: 1.44.3 Command: /home/biocbuild/bbs-3.21-bioc/R/bin/R CMD INSTALL ENmix StartedAt: 2025-10-15 15:41:42 -0400 (Wed, 15 Oct 2025) EndedAt: 2025-10-15 15:42:36 -0400 (Wed, 15 Oct 2025) EllapsedTime: 54.0 seconds RetCode: 0 Status: OK