Package: ENmix Version: 1.44.3 Command: /home/biocbuild/bbs-3.21-bioc/R/bin/R CMD check --install=check:ENmix.install-out.txt --library=/home/biocbuild/bbs-3.21-bioc/R/site-library --timings ENmix_1.44.3.tar.gz StartedAt: 2025-10-15 22:56:20 -0400 (Wed, 15 Oct 2025) EndedAt: 2025-10-15 23:01:50 -0400 (Wed, 15 Oct 2025) EllapsedTime: 330.4 seconds RetCode: 0 Status: OK CheckDir: ENmix.Rcheck Warnings: 0