Package: ENmix Version: 1.44.3 Command: /home/biocbuild/bbs-3.21-bioc/R/bin/R CMD build --keep-empty-dirs --no-resave-data ENmix StartedAt: 2025-10-15 17:21:30 -0400 (Wed, 15 Oct 2025) EndedAt: 2025-10-15 17:22:26 -0400 (Wed, 15 Oct 2025) EllapsedTime: 56.0 seconds RetCode: 0 Status: OK PackageFile: ENmix_1.44.3.tar.gz PackageFileSize: 20.02 MiB