Package: ENmix Version: 1.44.3 Command: /home/biocbuild/R/R/bin/R CMD INSTALL ENmix StartedAt: 2025-10-13 20:58:05 -0000 (Mon, 13 Oct 2025) EndedAt: 2025-10-13 20:59:18 -0000 (Mon, 13 Oct 2025) EllapsedTime: 73.0 seconds RetCode: 0 Status: OK