Package: ENmix Version: 1.44.3 Command: /home/biocbuild/R/R/bin/R CMD build --keep-empty-dirs --no-resave-data ENmix StartedAt: 2025-10-14 00:35:03 -0000 (Tue, 14 Oct 2025) EndedAt: 2025-10-14 00:36:20 -0000 (Tue, 14 Oct 2025) EllapsedTime: 77.0 seconds RetCode: 0 Status: OK PackageFile: ENmix_1.44.3.tar.gz PackageFileSize: 20.08 MiB