Package: ENmix Version: 1.44.3 Command: /Library/Frameworks/R.framework/Resources/bin/R CMD build --keep-empty-dirs --no-resave-data ENmix StartedAt: 2025-10-13 23:50:44 -0400 (Mon, 13 Oct 2025) EndedAt: 2025-10-13 23:51:53 -0400 (Mon, 13 Oct 2025) EllapsedTime: 68.6 seconds RetCode: 0 Status: OK PackageFile: ENmix_1.44.3.tar.gz PackageFileSize: 20.02 MiB