Package: ENmix Version: 1.44.3 Maintainer: Zongli Xu MaintainerEmail: xuz at niehs.nih.gov git_url: https://git.bioconductor.org/packages/ENmix git_branch: RELEASE_3_21 git_last_commit: 57de9c2 git_last_commit_date: 2025-06-30 09:49:58 -0400 (Mon, 30 Jun 2025)